Package: sva Version: 3.58.0 Command: /home/biocbuild/bbs-3.22-bioc/R/bin/R CMD build --keep-empty-dirs --no-resave-data --md5 sva StartedAt: 2025-11-20 21:15:33 -0500 (Thu, 20 Nov 2025) EndedAt: 2025-11-20 21:16:25 -0500 (Thu, 20 Nov 2025) EllapsedTime: 52.0 seconds RetCode: 0 Status: OK PackageFile: sva_3.58.0.tar.gz PackageFileSize: 444 KiB