Package: survcomp Version: 1.60.0 Command: /home/biocbuild/bbs-3.22-bioc/R/bin/R CMD build --keep-empty-dirs --no-resave-data --md5 survcomp StartedAt: 2025-11-11 20:33:38 -0500 (Tue, 11 Nov 2025) EndedAt: 2025-11-11 20:33:56 -0500 (Tue, 11 Nov 2025) EllapsedTime: 18.0 seconds RetCode: 0 Status: OK PackageFile: survcomp_1.60.0.tar.gz PackageFileSize: 641.7 KiB