Package: survcomp Version: 1.60.0 Command: /Library/Frameworks/R.framework/Resources/bin/R CMD INSTALL survcomp StartedAt: 2025-11-03 15:15:19 -0500 (Mon, 03 Nov 2025) EndedAt: 2025-11-03 15:15:40 -0500 (Mon, 03 Nov 2025) EllapsedTime: 21.5 seconds RetCode: 0 Status: OK