Package: survcomp Version: 1.60.0 Command: /Library/Frameworks/R.framework/Resources/bin/R CMD build --keep-empty-dirs --no-resave-data survcomp StartedAt: 2025-10-31 19:03:36 -0400 (Fri, 31 Oct 2025) EndedAt: 2025-10-31 19:04:01 -0400 (Fri, 31 Oct 2025) EllapsedTime: 25.1 seconds RetCode: 0 Status: OK PackageFile: survcomp_1.60.0.tar.gz PackageFileSize: 637 KiB