Package: survcomp Version: 1.58.0 Command: /home/biocbuild/R/R/bin/R CMD build --keep-empty-dirs --no-resave-data survcomp StartedAt: 2025-09-30 05:46:12 -0000 (Tue, 30 Sep 2025) EndedAt: 2025-09-30 05:46:35 -0000 (Tue, 30 Sep 2025) EllapsedTime: 23.0 seconds RetCode: 0 Status: OK PackageFile: survcomp_1.58.0.tar.gz PackageFileSize: 634.3 KiB