Package: survcomp Version: 1.58.0 Command: /Library/Frameworks/R.framework/Resources/bin/R CMD build --keep-empty-dirs --no-resave-data survcomp StartedAt: 2025-10-14 10:41:23 -0400 (Tue, 14 Oct 2025) EndedAt: 2025-10-14 10:41:52 -0400 (Tue, 14 Oct 2025) EllapsedTime: 28.2 seconds RetCode: 0 Status: OK PackageFile: survcomp_1.58.0.tar.gz PackageFileSize: 638 KiB