Package: survClust Version: 1.4.0 Command: /home/biocbuild/bbs-3.22-bioc/R/bin/R CMD INSTALL survClust StartedAt: 2025-11-11 15:24:40 -0500 (Tue, 11 Nov 2025) EndedAt: 2025-11-11 15:25:08 -0500 (Tue, 11 Nov 2025) EllapsedTime: 27.1 seconds RetCode: 0 Status: OK