Package: supraHex Version: 1.46.0 Command: /home/biocbuild/R/R/bin/R CMD INSTALL supraHex StartedAt: 2025-10-06 20:20:20 -0000 (Mon, 06 Oct 2025) EndedAt: 2025-10-06 20:20:31 -0000 (Mon, 06 Oct 2025) EllapsedTime: 11.5 seconds RetCode: 0 Status: OK