Package: supraHex Version: 1.46.0 Command: /home/biocbuild/R/R/bin/R CMD build --keep-empty-dirs --no-resave-data supraHex StartedAt: 2025-10-07 05:06:58 -0000 (Tue, 07 Oct 2025) EndedAt: 2025-10-07 05:07:14 -0000 (Tue, 07 Oct 2025) EllapsedTime: 16.0 seconds RetCode: 1 Status: ERROR PackageFile: None PackageFileSize: NA