Package: supraHex Version: 1.46.0 Command: /Library/Frameworks/R.framework/Resources/bin/R CMD INSTALL supraHex StartedAt: 2025-10-13 15:26:49 -0400 (Mon, 13 Oct 2025) EndedAt: 2025-10-13 15:27:00 -0400 (Mon, 13 Oct 2025) EllapsedTime: 10.8 seconds RetCode: 0 Status: OK