Package: supersigs Version: 1.18.0 Command: /home/biocbuild/bbs-3.22-bioc/R/bin/R CMD INSTALL supersigs StartedAt: 2025-11-17 17:34:53 -0500 (Mon, 17 Nov 2025) EndedAt: 2025-11-17 17:35:28 -0500 (Mon, 17 Nov 2025) EllapsedTime: 35.5 seconds RetCode: 0 Status: OK