Package: supersigs Version: 1.18.0 Command: /home/biocbuild/bbs-3.22-bioc/R/bin/R CMD build --keep-empty-dirs --no-resave-data --md5 supersigs StartedAt: 2025-11-17 23:50:53 -0500 (Mon, 17 Nov 2025) EndedAt: 2025-11-17 23:51:56 -0500 (Mon, 17 Nov 2025) EllapsedTime: 63.0 seconds RetCode: 0 Status: OK PackageFile: supersigs_1.18.0.tar.gz PackageFileSize: 2.596 MiB