Package: subSeq Version: 1.40.0 Command: /home/biocbuild/R/R/bin/R CMD INSTALL subSeq StartedAt: 2025-11-13 21:19:47 -0000 (Thu, 13 Nov 2025) EndedAt: 2025-11-13 21:20:03 -0000 (Thu, 13 Nov 2025) EllapsedTime: 16.0 seconds RetCode: 0 Status: OK