Package: subSeq Version: 1.38.0 Command: /home/biocbuild/bbs-3.21-bioc/R/bin/R CMD INSTALL subSeq StartedAt: 2025-10-05 15:13:32 -0400 (Sun, 05 Oct 2025) EndedAt: 2025-10-05 15:13:41 -0400 (Sun, 05 Oct 2025) EllapsedTime: 9.5 seconds RetCode: 0 Status: OK