Package: subSeq Version: 1.38.0 Command: /home/biocbuild/bbs-3.21-bioc/R/bin/R CMD build --keep-empty-dirs --no-resave-data subSeq StartedAt: 2025-10-05 20:13:23 -0400 (Sun, 05 Oct 2025) EndedAt: 2025-10-05 20:13:59 -0400 (Sun, 05 Oct 2025) EllapsedTime: 36.1 seconds RetCode: 0 Status: OK PackageFile: subSeq_1.38.0.tar.gz PackageFileSize: 2.917 MiB