Package: subSeq Version: 1.38.0 Command: /Library/Frameworks/R.framework/Resources/bin/R CMD build --keep-empty-dirs --no-resave-data subSeq StartedAt: 2025-10-13 23:04:54 -0400 (Mon, 13 Oct 2025) EndedAt: 2025-10-13 23:06:25 -0400 (Mon, 13 Oct 2025) EllapsedTime: 90.5 seconds RetCode: 0 Status: OK PackageFile: subSeq_1.38.0.tar.gz PackageFileSize: 2.916 MiB