Package: subSeq Version: 1.38.0 Command: rm -rf subSeq.buildbin-libdir && mkdir subSeq.buildbin-libdir && /Users/biocbuild/BBS/utils/build-universal.sh subSeq_1.38.0.tar.gz /Library/Frameworks/R.framework/Resources/bin/R subSeq.buildbin-libdir StartedAt: 2025-10-14 14:54:44 -0400 (Tue, 14 Oct 2025) EndedAt: 2025-10-14 14:55:01 -0400 (Tue, 14 Oct 2025) EllapsedTime: 17.8 seconds RetCode: 0 Status: OK PackageFile: subSeq_1.38.0.tgz PackageFileSize: 2.947 MiB