Package: subSeq Version: 1.38.0 Command: /Library/Frameworks/R.framework/Resources/bin/R CMD INSTALL subSeq StartedAt: 2025-10-06 15:55:22 -0400 (Mon, 06 Oct 2025) EndedAt: 2025-10-06 15:55:29 -0400 (Mon, 06 Oct 2025) EllapsedTime: 7.4 seconds RetCode: 0 Status: OK