Package: subSeq Version: 1.38.0 Command: /Library/Frameworks/R.framework/Resources/bin/R CMD build --keep-empty-dirs --no-resave-data subSeq StartedAt: 2025-10-07 11:04:11 -0400 (Tue, 07 Oct 2025) EndedAt: 2025-10-07 11:05:04 -0400 (Tue, 07 Oct 2025) EllapsedTime: 52.2 seconds RetCode: 0 Status: OK PackageFile: subSeq_1.38.0.tar.gz PackageFileSize: 2.917 MiB