Package: struct Version: 1.22.0 Command: /home/biocbuild/R/R/bin/R CMD build --keep-empty-dirs --no-resave-data struct StartedAt: 2025-11-11 05:39:41 -0000 (Tue, 11 Nov 2025) EndedAt: 2025-11-11 05:40:34 -0000 (Tue, 11 Nov 2025) EllapsedTime: 53.0 seconds RetCode: 0 Status: OK PackageFile: struct_1.22.0.tar.gz PackageFileSize: 635 KiB