Package: struct Version: 1.22.0 Command: /home/biocbuild/bbs-3.22-bioc/R/bin/R CMD check --install=check:struct.install-out.txt --library=/home/biocbuild/bbs-3.22-bioc/R/site-library --timings struct_1.22.0.tar.gz StartedAt: 2025-11-12 04:44:19 -0500 (Wed, 12 Nov 2025) EndedAt: 2025-11-12 04:47:24 -0500 (Wed, 12 Nov 2025) EllapsedTime: 184.1 seconds RetCode: 0 Status: OK CheckDir: struct.Rcheck Warnings: 0