Package: strandCheckR Version: 1.28.0 Command: /home/biocbuild/R/R/bin/R CMD INSTALL strandCheckR StartedAt: 2025-11-13 22:04:21 -0000 (Thu, 13 Nov 2025) EndedAt: 2025-11-13 22:05:12 -0000 (Thu, 13 Nov 2025) EllapsedTime: 51.2 seconds RetCode: 0 Status: OK