Package: strandCheckR Version: 1.28.0 Command: /home/biocbuild/R/R/bin/R CMD build --keep-empty-dirs --no-resave-data strandCheckR StartedAt: 2025-11-14 05:47:12 -0000 (Fri, 14 Nov 2025) EndedAt: 2025-11-14 05:48:37 -0000 (Fri, 14 Nov 2025) EllapsedTime: 84.1 seconds RetCode: 0 Status: OK PackageFile: strandCheckR_1.28.0.tar.gz PackageFileSize: 937.9 KiB