Package: strandCheckR Version: 1.26.0 Command: /Library/Frameworks/R.framework/Resources/bin/R CMD build --keep-empty-dirs --no-resave-data strandCheckR StartedAt: 2025-10-14 10:31:30 -0400 (Tue, 14 Oct 2025) EndedAt: 2025-10-14 10:32:51 -0400 (Tue, 14 Oct 2025) EllapsedTime: 81.0 seconds RetCode: 0 Status: OK PackageFile: strandCheckR_1.26.0.tar.gz PackageFileSize: 1.226 MiB