Package: strandCheckR Version: 1.26.0 Command: rm -rf strandCheckR.buildbin-libdir && mkdir strandCheckR.buildbin-libdir && /Users/biocbuild/BBS/utils/build-universal.sh strandCheckR_1.26.0.tar.gz /Library/Frameworks/R.framework/Resources/bin/R strandCheckR.buildbin-libdir StartedAt: 2025-10-15 20:44:18 -0400 (Wed, 15 Oct 2025) EndedAt: 2025-10-15 20:45:08 -0400 (Wed, 15 Oct 2025) EllapsedTime: 50.1 seconds RetCode: 0 Status: OK PackageFile: strandCheckR_1.26.0.tgz PackageFileSize: 1.309 MiB