Package: stepNorm Version: 1.80.0 Command: /home/biocbuild/bbs-3.21-bioc/R/bin/R CMD INSTALL stepNorm StartedAt: 2025-10-08 15:03:55 -0400 (Wed, 08 Oct 2025) EndedAt: 2025-10-08 15:04:14 -0400 (Wed, 08 Oct 2025) EllapsedTime: 19.5 seconds RetCode: 0 Status: OK