Package: stepNorm Version: 1.80.0 Command: /home/biocbuild/bbs-3.21-bioc/R/bin/R CMD build --keep-empty-dirs --no-resave-data stepNorm StartedAt: 2025-10-08 20:09:12 -0400 (Wed, 08 Oct 2025) EndedAt: 2025-10-08 20:09:13 -0400 (Wed, 08 Oct 2025) EllapsedTime: 1.0 seconds RetCode: 0 Status: OK PackageFile: stepNorm_1.80.0.tar.gz PackageFileSize: 460.1 KiB