Package: stepNorm Version: 1.80.0 Command: rm -rf stepNorm.buildbin-libdir && mkdir stepNorm.buildbin-libdir && /Users/biocbuild/BBS/utils/build-universal.sh stepNorm_1.80.0.tar.gz /Library/Frameworks/R.framework/Resources/bin/R stepNorm.buildbin-libdir StartedAt: 2025-04-22 01:11:58 -0400 (Tue, 22 Apr 2025) EndedAt: 2025-04-22 01:12:05 -0400 (Tue, 22 Apr 2025) EllapsedTime: 7.0 seconds RetCode: 0 Status: OK PackageFile: stepNorm_1.80.0.tgz PackageFileSize: 553.5 KiB