Package: stepNorm Version: 1.80.0 Command: /Library/Frameworks/R.framework/Resources/bin/R CMD INSTALL stepNorm StartedAt: 2025-10-09 15:10:56 -0400 (Thu, 09 Oct 2025) EndedAt: 2025-10-09 15:11:02 -0400 (Thu, 09 Oct 2025) EllapsedTime: 5.8 seconds RetCode: 0 Status: OK