Package: statTarget Version: 1.40.0 Command: /home/biocbuild/bbs-3.22-bioc/R/bin/R CMD INSTALL statTarget StartedAt: 2025-11-11 15:14:58 -0500 (Tue, 11 Nov 2025) EndedAt: 2025-11-11 15:15:14 -0500 (Tue, 11 Nov 2025) EllapsedTime: 15.4 seconds RetCode: 0 Status: OK