Package: statTarget Version: 1.40.0 Command: /home/biocbuild/bbs-3.22-bioc/R/bin/R CMD check --install=check:statTarget.install-out.txt --library=/home/biocbuild/bbs-3.22-bioc/R/site-library --timings statTarget_1.40.0.tar.gz StartedAt: 2025-11-12 04:43:13 -0500 (Wed, 12 Nov 2025) EndedAt: 2025-11-12 04:43:54 -0500 (Wed, 12 Nov 2025) EllapsedTime: 41.1 seconds RetCode: 0 Status: OK CheckDir: statTarget.Rcheck Warnings: 0