Package: statTarget Version: 1.38.0 Command: /home/biocbuild/bbs-3.21-bioc/R/bin/R CMD INSTALL statTarget StartedAt: 2025-10-15 15:10:12 -0400 (Wed, 15 Oct 2025) EndedAt: 2025-10-15 15:10:27 -0400 (Wed, 15 Oct 2025) EllapsedTime: 15.3 seconds RetCode: 0 Status: OK