Package: statTarget Version: 1.38.0 Command: /home/biocbuild/R/R/bin/R CMD build --keep-empty-dirs --no-resave-data statTarget StartedAt: 2025-09-26 06:26:50 -0000 (Fri, 26 Sep 2025) EndedAt: 2025-09-26 06:27:04 -0000 (Fri, 26 Sep 2025) EllapsedTime: 14.0 seconds RetCode: 0 Status: OK PackageFile: statTarget_1.38.0.tar.gz PackageFileSize: 852 KiB