Package: standR Version: 1.14.0 Command: /home/biocbuild/bbs-3.22-bioc/R/bin/R CMD INSTALL standR StartedAt: 2025-11-11 15:58:37 -0500 (Tue, 11 Nov 2025) EndedAt: 2025-11-11 15:59:04 -0500 (Tue, 11 Nov 2025) EllapsedTime: 27.0 seconds RetCode: 0 Status: OK