Package: standR Version: 1.14.0 Command: /home/biocbuild/bbs-3.22-bioc/R/bin/R CMD check --install=check:standR.install-out.txt --library=/home/biocbuild/bbs-3.22-bioc/R/site-library --timings standR_1.14.0.tar.gz StartedAt: 2025-11-21 05:12:22 -0500 (Fri, 21 Nov 2025) EndedAt: 2025-11-21 05:18:55 -0500 (Fri, 21 Nov 2025) EllapsedTime: 393.4 seconds RetCode: 0 Status: OK CheckDir: standR.Rcheck Warnings: 0