Package: standR Version: 1.14.0 Command: /Library/Frameworks/R.framework/Resources/bin/R CMD INSTALL standR StartedAt: 2025-11-03 15:49:51 -0500 (Mon, 03 Nov 2025) EndedAt: 2025-11-03 15:50:27 -0500 (Mon, 03 Nov 2025) EllapsedTime: 35.7 seconds RetCode: 0 Status: OK