Package: standR Version: 1.14.0 Command: /Library/Frameworks/R.framework/Resources/bin/R CMD build --keep-empty-dirs --no-resave-data standR StartedAt: 2025-11-03 18:59:48 -0500 (Mon, 03 Nov 2025) EndedAt: 2025-11-03 19:01:36 -0500 (Mon, 03 Nov 2025) EllapsedTime: 108.5 seconds RetCode: 0 Status: OK PackageFile: standR_1.14.0.tar.gz PackageFileSize: 2.985 MiB