Package: standR Version: 1.14.0 Command: rm -rf standR.buildbin-libdir && mkdir standR.buildbin-libdir && /Users/biocbuild/BBS/utils/build-universal.sh standR_1.14.0.tar.gz /Library/Frameworks/R.framework/Resources/bin/R standR.buildbin-libdir StartedAt: 2025-11-04 02:07:09 -0500 (Tue, 04 Nov 2025) EndedAt: 2025-11-04 02:07:46 -0500 (Tue, 04 Nov 2025) EllapsedTime: 37.2 seconds RetCode: 0 Status: OK PackageFile: standR_1.14.0.tgz PackageFileSize: 3.094 MiB