Package: standR Version: 1.12.0 Command: /home/biocbuild/R/R/bin/R CMD INSTALL standR StartedAt: 2025-10-13 21:11:29 -0000 (Mon, 13 Oct 2025) EndedAt: 2025-10-13 21:12:06 -0000 (Mon, 13 Oct 2025) EllapsedTime: 37.6 seconds RetCode: 0 Status: OK