Package: standR Version: 1.12.0 Command: /home/biocbuild/R/R/bin/R CMD build --keep-empty-dirs --no-resave-data standR StartedAt: 2025-10-14 05:09:06 -0000 (Tue, 14 Oct 2025) EndedAt: 2025-10-14 05:11:32 -0000 (Tue, 14 Oct 2025) EllapsedTime: 146.1 seconds RetCode: 0 Status: OK PackageFile: standR_1.12.0.tar.gz PackageFileSize: 2.41 MiB