Package: stPipe Version: 1.0.0 Command: /home/biocbuild/bbs-3.22-bioc/R/bin/R CMD build --keep-empty-dirs --no-resave-data --md5 stPipe StartedAt: 2025-11-11 20:31:22 -0500 (Tue, 11 Nov 2025) EndedAt: 2025-11-11 20:41:39 -0500 (Tue, 11 Nov 2025) EllapsedTime: 617.8 seconds RetCode: 0 Status: OK PackageFile: stPipe_1.0.0.tar.gz PackageFileSize: 5.847 MiB