Package: stPipe Version: 1.0.0 Command: /Library/Frameworks/R.framework/Resources/bin/R CMD INSTALL stPipe StartedAt: 2025-11-03 15:38:00 -0500 (Mon, 03 Nov 2025) EndedAt: 2025-11-03 15:39:00 -0500 (Mon, 03 Nov 2025) EllapsedTime: 60.6 seconds RetCode: 0 Status: OK