Package: stPipe Version: 1.0.0 Command: /Library/Frameworks/R.framework/Resources/bin/R CMD build --keep-empty-dirs --no-resave-data stPipe StartedAt: 2025-11-03 19:00:11 -0500 (Mon, 03 Nov 2025) EndedAt: 2025-11-03 19:18:13 -0500 (Mon, 03 Nov 2025) EllapsedTime: 1082.8 seconds RetCode: 0 Status: OK PackageFile: stPipe_1.0.0.tar.gz PackageFileSize: 5.871 MiB