Package: stPipe Version: 1.0.0 Command: rm -rf stPipe.buildbin-libdir && mkdir stPipe.buildbin-libdir && /Users/biocbuild/BBS/utils/build-universal.sh stPipe_1.0.0.tar.gz /Library/Frameworks/R.framework/Resources/bin/R stPipe.buildbin-libdir StartedAt: 2025-11-04 02:07:17 -0500 (Tue, 04 Nov 2025) EndedAt: 2025-11-04 02:08:22 -0500 (Tue, 04 Nov 2025) EllapsedTime: 65.0 seconds RetCode: 0 Status: OK PackageFile: stPipe_1.0.0.tgz PackageFileSize: 7.365 MiB