Package: ssviz Version: 1.44.0 Command: /home/biocbuild/R/R/bin/R CMD build --keep-empty-dirs --no-resave-data ssviz StartedAt: 2025-11-21 06:17:43 -0000 (Fri, 21 Nov 2025) EndedAt: 2025-11-21 06:18:13 -0000 (Fri, 21 Nov 2025) EllapsedTime: 30.0 seconds RetCode: 0 Status: OK PackageFile: ssviz_1.44.0.tar.gz PackageFileSize: 1.146 MiB