Package: ssviz Version: 1.44.0 Command: /home/biocbuild/bbs-3.22-bioc/R/bin/R CMD INSTALL ssviz StartedAt: 2025-11-11 15:20:52 -0500 (Tue, 11 Nov 2025) EndedAt: 2025-11-11 15:21:07 -0500 (Tue, 11 Nov 2025) EllapsedTime: 14.2 seconds RetCode: 0 Status: OK