Package: ssviz Version: 1.44.0 Command: /home/biocbuild/bbs-3.22-bioc/R/bin/R CMD check --install=check:ssviz.install-out.txt --library=/home/biocbuild/bbs-3.22-bioc/R/site-library --timings ssviz_1.44.0.tar.gz StartedAt: 2025-11-12 04:41:30 -0500 (Wed, 12 Nov 2025) EndedAt: 2025-11-12 04:43:35 -0500 (Wed, 12 Nov 2025) EllapsedTime: 125.1 seconds RetCode: 0 Status: OK CheckDir: ssviz.Rcheck Warnings: 0