Package: ssviz Version: 1.42.0 Command: /home/biocbuild/bbs-3.21-bioc/R/bin/R CMD INSTALL ssviz StartedAt: 2025-10-15 15:15:53 -0400 (Wed, 15 Oct 2025) EndedAt: 2025-10-15 15:16:08 -0400 (Wed, 15 Oct 2025) EllapsedTime: 14.9 seconds RetCode: 0 Status: OK