Package: ssviz Version: 1.42.0 Command: /Library/Frameworks/R.framework/Resources/bin/R CMD INSTALL ssviz StartedAt: 2025-10-13 16:03:55 -0400 (Mon, 13 Oct 2025) EndedAt: 2025-10-13 16:04:13 -0400 (Mon, 13 Oct 2025) EllapsedTime: 17.3 seconds RetCode: 0 Status: OK