Package: ssviz Version: 1.42.0 Command: /Library/Frameworks/R.framework/Resources/bin/R CMD build --keep-empty-dirs --no-resave-data ssviz StartedAt: 2025-10-14 10:28:03 -0400 (Tue, 14 Oct 2025) EndedAt: 2025-10-14 10:28:38 -0400 (Tue, 14 Oct 2025) EllapsedTime: 35.2 seconds RetCode: 0 Status: OK PackageFile: ssviz_1.42.0.tar.gz PackageFileSize: 1.153 MiB